BEGIN:VCALENDAR
PRODID:-//github.com/rianjs/ical.net//NONSGML ical.net 4.0//EN
VERSION:2.0
BEGIN:VEVENT
DESCRIPTION:1100 éve Európában\, 20 éve az Unióban - Navratil Andrea és a 
 Kobzos Együttes: A mennyország piacán vagyon egy szép almafa
DTEND:20241201T100000Z
DTSTAMP:20260422T105541Z
DTSTART:20241201T090000Z
GEO:47.096363;17.905395
LOCATION:Kabóca Bábszínház\n8200 Veszprém\, Deák Ferenc utca 13
SEQUENCE:0
SUMMARY:Navratil Andrea és a Kobzos Együttes - Kabóca Bábszínház
UID:3a842249-f721-454e-b90d-253f7096cdb5
END:VEVENT
END:VCALENDAR
