BEGIN:VCALENDAR
PRODID:-//github.com/rianjs/ical.net//NONSGML ical.net 4.0//EN
VERSION:2.0
BEGIN:VEVENT
DESCRIPTION:A Kabóca Bábszínház 2025-ben 32. alkalommal rendezi meg a váro
 s egyik legkedveltebb nyári eseményét\, a Kabóciádé Családi Fesztivált\, 
 amely idén június 28–29-én várja a családokat Veszprémben\, a Kabóca kert
 ben és a Szerelem-szigeten.
DTEND:20250629T180000Z
DTSTAMP:20260422T025718Z
DTSTART:20250628T080000Z
GEO:47.096363;17.905395
LOCATION:Kabóca Bábszínház\n8200 Veszprém\, Deák Ferenc utca 13
SEQUENCE:0
SUMMARY:32. Kabóciádé Családi Fesztivál
UID:4e06c6a8-3fed-483b-abae-369973bbc38e
END:VEVENT
END:VCALENDAR
