BEGIN:VCALENDAR
PRODID:-//github.com/rianjs/ical.net//NONSGML ical.net 4.0//EN
VERSION:2.0
BEGIN:VEVENT
DESCRIPTION:A sűrű erdő közepén élő életigenlő malac\, Ildikó és cseppet s
 em életigenlő barátja\, Sándor\, a varjú építkezésre adják fejüket. Elősz
 ör nádból\, aztán fából\, végül téglából építenek ideális malaclakot a go
 nosz farkas\, Imre ellen.
DTEND:20241004T075000Z
DTSTAMP:20260422T185417Z
DTSTART:20241004T070000Z
GEO:47.096363;17.905395
LOCATION:Kabóca Bábszínház\n8200 Veszprém\, Deák Ferenc utca 13
SEQUENCE:0
SUMMARY:A kismalac meg a farkasok 10.04. - Lázár Ervin Program
UID:6bf31061-0420-4aa8-8303-a9585b7917e3
END:VEVENT
END:VCALENDAR
