BEGIN:VCALENDAR
PRODID:-//github.com/rianjs/ical.net//NONSGML ical.net 4.0//EN
VERSION:2.0
BEGIN:VEVENT
DESCRIPTION:Nagy víz partján – megszólalásig hasonlít a Balatonra! – él a 
 szegény halász meg a felesége\, tisztes szegénységben és békében. Mégis t
 öbbre vágynak...
DTEND:20241203T134500Z
DTSTAMP:20260422T105658Z
DTSTART:20241203T130000Z
GEO:47.028572;18.127787
LOCATION:Balatonkenese\n8174 Balatonkenese
SEQUENCE:0
SUMMARY:A szegény halász meg a ... - Lázár Ervin Program - 12.03.
UID:88d4edf6-5eb2-42a0-850f-d71e1677da8f
END:VEVENT
END:VCALENDAR
