BEGIN:VCALENDAR
PRODID:-//github.com/rianjs/ical.net//NONSGML ical.net 4.0//EN
VERSION:2.0
BEGIN:VEVENT
DESCRIPTION:Nagy víz partján – megszólalásig hasonlít a Balatonra! – él a 
 szegény halász meg a felesége\, tisztes szegénységben és békében. Mégis t
 öbbre vágynak...
DTEND:20250118T094500Z
DTSTAMP:20260420T171247Z
DTSTART:20250118T090000Z
GEO:47.096363;17.905395
LOCATION:Kabóca Bábszínház\n8200 Veszprém\, Deák Ferenc utca 13
SEQUENCE:0
SUMMARY:A szegény halász meg a túl sokra vágyó felesége - 01.18.
UID:9c253da6-07a3-4e1a-b2d9-db4a55ff92f2
END:VEVENT
END:VCALENDAR
