BEGIN:VCALENDAR
PRODID:-//github.com/rianjs/ical.net//NONSGML ical.net 4.0//EN
VERSION:2.0
BEGIN:VEVENT
DESCRIPTION:Bábszínházi előadásunkban a tárgyak "farsangolnak" Charles Cam
 ille Saint-Saëns zenéjére.
DTEND:20241103T094000Z
DTSTAMP:20260420T171247Z
DTSTART:20241103T090000Z
GEO:47.096363;17.905395
LOCATION:Kabóca Bábszínház\n8200 Veszprém\, Deák Ferenc utca 13
SEQUENCE:0
SUMMARY:TELTHÁZ - Állatok farsangja - Kabóca Bábszínház 11.03.
UID:043e5c1e-7d3d-4ff2-89df-c5290bb360bd
END:VEVENT
END:VCALENDAR
