BEGIN:VCALENDAR
PRODID:-//github.com/rianjs/ical.net//NONSGML ical.net 4.0//EN
VERSION:2.0
BEGIN:VEVENT
DESCRIPTION:A művészek első ránézésre díszlet nélkül kalauzolják el a néző
 t egy varázsvilágba.\nÁm ez nem teljesen igaz! A történet során felfedezh
 etjük\, hogy mi minden fér el egy\nzakóban\, hogy egy hajpánt nem biztos\
 , hogy csak egy hajpánt\, egy kistáskából pedig\nakár egy teljesen másik 
 világ is előbukkanhat.
DTEND:20240919T074000Z
DTSTAMP:20260424T132830Z
DTSTART:20240919T070000Z
GEO:47.096363;17.905395
LOCATION:Kabóca Bábszínház\n8200 Veszprém\, Deák Ferenc utca 13
SEQUENCE:0
SUMMARY:Anyám szoknyáiban “Dans les jupes de ma mère"
UID:c5efb6e4-985f-4e69-a02c-119d75d8608f
END:VEVENT
END:VCALENDAR
