BEGIN:VCALENDAR
PRODID:-//github.com/rianjs/ical.net//NONSGML ical.net 4.0//EN
VERSION:2.0
BEGIN:VEVENT
DESCRIPTION:Mi a közös Dorkában és Misiben? Mind a ketten kilenc évesek\, 
 suliba járnak\, és imádnak rajzolni. Mi a különbség Dorka és Misi között?
  Dorka lány\, Misi pedig fiú. Dorkát az univerzum titkai érdeklik\, Misit
  pedig az autóbuszok típusai.
DTEND:20250402T154500Z
DTSTAMP:20260425T123438Z
DTSTART:20250402T150000Z
GEO:47.096363;17.905395
LOCATION:Kabóca Bábszínház\n8200 Veszprém\, Deák Ferenc utca 13
SEQUENCE:0
SUMMARY:Csillagbusz - DÍSZBEMUTATÓ - 04.02.
UID:942c135c-f606-4a2b-89ee-71473860c49f
END:VEVENT
END:VCALENDAR
