BEGIN:VCALENDAR
PRODID:-//github.com/rianjs/ical.net//NONSGML ical.net 4.0//EN
VERSION:2.0
BEGIN:VEVENT
DESCRIPTION:Nagy bajban van az\, aki fürdeni készül\, de elmegy a víz a la
 kásában. Márpedig kalandunk így kezdődik. Ráadásul szorít az idő\, mert e
 ste szolgálat.
DTEND:20241205T104500Z
DTSTAMP:20260419T214645Z
DTSTART:20241205T100000Z
GEO:47.099021;18.007407
LOCATION:Litér\n8196 Litér
SEQUENCE:0
SUMMARY:Csókolom\, hol a víz? - Lázár Ervin Program - 12.05.
UID:bed6055f-0fdc-46d8-a79d-86a364672316
END:VEVENT
END:VCALENDAR
