BEGIN:VCALENDAR
PRODID:-//github.com/rianjs/ical.net//NONSGML ical.net 4.0//EN
VERSION:2.0
BEGIN:VEVENT
DESCRIPTION:Szívhez szóló bábszínházi előadás egy kisfiú és egy kisbálna b
 arátságáról\, a megbocsátás erejéről\, a víz alatti és a víz feletti vilá
 g összetartozásáról.
DTEND:20241106T141000Z
DTSTAMP:20260426T002625Z
DTSTART:20241106T133000Z
GEO:47.681662;16.584480
LOCATION:Sopron\nSopron
SEQUENCE:0
SUMMARY:Gréta - Kabóca Bábszínház - 11.06. - Sopron
UID:8f00e5fc-343a-4c03-b37e-4728f9364b13
END:VEVENT
END:VCALENDAR
