BEGIN:VCALENDAR
PRODID:-//github.com/rianjs/ical.net//NONSGML ical.net 4.0//EN
VERSION:2.0
BEGIN:VEVENT
DESCRIPTION:Szívhez szóló bábszínházi előadás egy kisfiú és egy kisbálna b
 arátságáról\, a megbocsátás erejéről\, a víz alatti és a víz feletti vilá
 g összetartozásáról.
DTEND:20241104T164000Z
DTSTAMP:20260421T223050Z
DTSTART:20241104T160000Z
GEO:47.681662;16.584480
LOCATION:Sopron\nSopron
SEQUENCE:0
SUMMARY:Gréta - Kabóca Bábszínház - 11.04. - Sopron
UID:3b34e2e9-c8e6-43a8-b193-c170f6cbc1a7
END:VEVENT
END:VCALENDAR
