BEGIN:VCALENDAR
PRODID:-//github.com/rianjs/ical.net//NONSGML ical.net 4.0//EN
VERSION:2.0
BEGIN:VEVENT
DESCRIPTION:Szívhez szóló bábszínházi előadás egy kisfiú és egy kisbálna b
 arátságáról\, a megbocsátás erejéről\, a víz alatti és a víz feletti vilá
 g összetartozásáról.
DTEND:20241105T164000Z
DTSTAMP:20260423T171557Z
DTSTART:20241105T160000Z
GEO:47.681662;16.584480
LOCATION:Sopron\nSopron
SEQUENCE:0
SUMMARY:Gréta - Kabóca Bábszínház - 11.05. - Sopron
UID:ce9e7ca0-c7a7-40cd-908f-888cb5ab5ae9
END:VEVENT
END:VCALENDAR
