BEGIN:VCALENDAR
PRODID:-//github.com/rianjs/ical.net//NONSGML ical.net 4.0//EN
VERSION:2.0
BEGIN:VEVENT
DESCRIPTION:Ím\, itt láthatják ama órjásra növekedett legendát\, amelyben 
 elbeszélődik\, miként támadt védtelen süldőlányra egy felpüffedt önérzetű
  vadállat\, akit (s a hozzá hasonlókat) mindeg is elő kell állítani megto
 rlásra\, hogy történetükből okulva gyermekeink megértsék\, hogy a farkas 
 nem játék.
DTEND:20240526T084000Z
DTSTAMP:20260423T170727Z
DTSTART:20240526T080000Z
GEO:47.096363;17.905395
LOCATION:Kabóca Bábszínház\n8200 Veszprém\, Deák Ferenc utca 13
SEQUENCE:0
SUMMARY:GYEREKNAP - Piroska és a Farkas - Kabóca Bábszínház - 05.26.
UID:a0c1f735-f8c8-40a6-a2db-1acbf2937512
END:VEVENT
END:VCALENDAR
