BEGIN:VCALENDAR
PRODID:-//github.com/rianjs/ical.net//NONSGML ical.net 4.0//EN
VERSION:2.0
BEGIN:VEVENT
DESCRIPTION:A Leszállt az ég dicső királya egyszemélyes betlehemes előadás
 \, amely ötvözi az adventi és karácsonyi népi színjátékok szinte minden f
 ajtáját: a szálláskereső-\, a csillagozó-\, a paradicsom- és a pásztorját
 ékok.
DTEND:20241205T172000Z
DTSTAMP:20260421T111050Z
DTSTART:20241205T163000Z
GEO:47.687804;19.103580
LOCATION:Szigetmonostor\n2015 Szigetmonostor
SEQUENCE:0
SUMMARY:Leszállt az ég dicső királya -  12.05. - Szigetmonostor
UID:5c1be759-321c-4a46-8bd4-625af12caf63
END:VEVENT
END:VCALENDAR
