BEGIN:VCALENDAR
PRODID:-//github.com/rianjs/ical.net//NONSGML ical.net 4.0//EN
VERSION:2.0
BEGIN:VEVENT
DESCRIPTION:A Leszállt az ég dicső királya egyszemélyes betlehemes előadás
 \, amely ötvözi az adventi és karácsonyi népi színjátékok szinte minden f
 ajtáját: a szálláskereső-\, a csillagozó-\, a paradicsom- és a pásztorját
 ékok.
DTEND:20241201T155000Z
DTSTAMP:20260421T111459Z
DTSTART:20241201T150000Z
GEO:47.784180;19.135178
LOCATION:Vác\n2600 Vác
SEQUENCE:0
SUMMARY:Leszállt az ég dicső királya -  12.01. - Vác
UID:d69eac13-a29a-42be-90e3-64b31c349b92
END:VEVENT
END:VCALENDAR
