BEGIN:VCALENDAR
PRODID:-//github.com/rianjs/ical.net//NONSGML ical.net 4.0//EN
VERSION:2.0
BEGIN:VEVENT
DESCRIPTION:Tartsatok velük és legyetek ti is Malac és Liba barátai! Ismer
 jétek meg szeleburdi hőseinket\, és nevessetek kalandjaikon! Tóth Kriszti
 na gyerekeknek és szüleiknek egyaránt kedves történetei bővelkednek a hum
 orban\, melyekkel igazi közös\, családi élmény lesz ez az előadás.
DTEND:20240908T124500Z
DTSTAMP:20260419T125408Z
DTSTART:20240908T120000Z
SEQUENCE:0
SUMMARY:Malac és Liba - Szombathely 09.08.
UID:efd803e2-2523-4be9-b3bc-96b010714844
END:VEVENT
END:VCALENDAR
