BEGIN:VCALENDAR
PRODID:-//github.com/rianjs/ical.net//NONSGML ical.net 4.0//EN
VERSION:2.0
BEGIN:VEVENT
DESCRIPTION:A székely menyecske meg az ördög című közismert magyar népmese
  tárgyanimáció és főzés segítségével kel életre. Már csak az a kérdés\, h
 ogy vajon milyen padlizsánkrém készülhet székely menyecske módra.
DTEND:20240921T164500Z
DTSTAMP:20260419T125557Z
DTSTART:20240921T160000Z
GEO:47.256829;17.151105
LOCATION:Soltis Lajos Színház\n9500 Celldömölk\, Koptik Odó utca 2
SEQUENCE:0
SUMMARY:Padlizsánkrém székelymenyecske módra - 09.21. - Celldömölk
UID:284caf55-e347-46a2-8a66-9c27c774fd94
END:VEVENT
END:VCALENDAR
