BEGIN:VCALENDAR
PRODID:-//github.com/rianjs/ical.net//NONSGML ical.net 4.0//EN
VERSION:2.0
BEGIN:VEVENT
DESCRIPTION:A Ringató foglalkozások célja\, hogy oldott\, szeretetteljes l
 égkörben ismertesse meg a kisgyermekes szülőkkel a zenei nevelés lehetősé
 geit\, hogy a szülők és a gyerekek átélhessék a közös éneklés és játék él
 ményét.
DTEND:20240403T091000Z
DTSTAMP:20260421T084038Z
DTSTART:20240403T083000Z
SEQUENCE:0
SUMMARY:Ringató Rábaközi Ritával - Kabóca Bábszínház 04.05.
UID:383bf24a-f4c9-49db-ab42-c37a2d69038c
END:VEVENT
END:VCALENDAR
