BEGIN:VCALENDAR
PRODID:-//github.com/rianjs/ical.net//NONSGML ical.net 4.0//EN
VERSION:2.0
BEGIN:VEVENT
DESCRIPTION:Valaki megrágalmazhatta Szókratészt\, mert bár semmi rosszat n
 em tett\, egy nap a bíróságon találta magát. És az ilyesmi már i. e. 399-
 ben sem volt tréfadolog. A vád koholt\, a bírák zömmel ellenséges érzület
 ű athéni férfiak\, a megelőlegezett ítélet halál.
DTEND:20241125T192000Z
DTSTAMP:20260420T023735Z
DTSTART:20241125T180000Z
GEO:47.096363;17.905395
LOCATION:Kabóca Bábszínház\n8200 Veszprém\, Deák Ferenc utca 13
SEQUENCE:0
SUMMARY:Szókratész védőbeszéde - Janus Egyetemi Színház 11.25.
UID:67083346-7628-4d10-97fc-d1438b6b2006
END:VEVENT
END:VCALENDAR
