BEGIN:VCALENDAR
PRODID:-//github.com/rianjs/ical.net//NONSGML ical.net 4.0//EN
VERSION:2.0
BEGIN:VEVENT
DESCRIPTION:Vackor\, a piszén pisze kölyökmackó iskolás\, ám nem érzi jól 
 magát. Egy nap\, mikor egyedül ücsörög a teremben\, míg társai az udvaron
  fogócskáznak\, kiszagolja\, hogy a padtársa nagymamája vajas-mézes kifli
 t csomagolt az unokájának tízóraira.
DTEND:20240518T085500Z
DTSTAMP:20260423T081701Z
DTSTART:20240518T080000Z
GEO:47.096363;17.905395
LOCATION:Kabóca Bábszínház\n8200 Veszprém\, Deák Ferenc utca 13
SEQUENCE:0
SUMMARY:Vackor - Aranyszamár Bábszínház - 05.18.
UID:99fa3875-6198-4768-9f36-e22c3e6a0d6f
END:VEVENT
END:VCALENDAR
