BEGIN:VCALENDAR
PRODID:-//github.com/rianjs/ical.net//NONSGML ical.net 4.0//EN
VERSION:2.0
BEGIN:VEVENT
DESCRIPTION:„Szervusztok\, pajtikák!”\, kiáltja a piros ruhás\, hegyes sip
 kás\, csizmás lábú vásári hős\, Vitéz László. Merthogy régi ismerősünk\, 
 aki legyőz ördögöt\, halált és mindent\, ami ártalmas és kártékony\, újra
  itt van! És újra nagy dologban jár: azt tervezi\, otthonra lel.
DTEND:20250315T094500Z
DTSTAMP:20260419T214823Z
DTSTART:20250315T090000Z
GEO:47.096363;17.905395
LOCATION:Kabóca Bábszínház\n8200 Veszprém\, Deák Ferenc utca 13
SEQUENCE:0
SUMMARY:TELTHÁZ - Vitéz László otthonra lel - 03.15.
UID:d8cae91f-f4d9-4468-b643-386ed88f24a6
END:VEVENT
END:VCALENDAR
