BEGIN:VCALENDAR
PRODID:-//github.com/rianjs/ical.net//NONSGML ical.net 4.0//EN
VERSION:2.0
BEGIN:VEVENT
DESCRIPTION:„Szervusztok\, pajtikák!”\, kiáltja a piros ruhás\, hegyes sip
 kás\, csizmás lábú vásári hős\, Vitéz László. Merthogy régi ismerősünk\, 
 aki legyőz ördögöt\, halált és mindent\, ami ártalmas és kártékony\, újra
  itt van! És újra nagy dologban jár: azt tervezi\, otthonra lel.
DTEND:20250419T084500Z
DTSTAMP:20260420T171406Z
DTSTART:20250419T080000Z
GEO:47.096363;17.905395
LOCATION:Kabóca Bábszínház\n8200 Veszprém\, Deák Ferenc utca 13
SEQUENCE:0
SUMMARY:Vitéz László otthonra lel - 04.19.
UID:44050cb0-f5ff-4f08-ac75-63e994aaff5f
END:VEVENT
END:VCALENDAR
